BEGIN:VCALENDAR
VERSION:2.0
PRODID:-//Arzenc de Randon - Lozère - ECPv6.15.18//NONSGML v1.0//EN
CALSCALE:GREGORIAN
METHOD:PUBLISH
X-WR-CALNAME:Arzenc de Randon - Lozère
X-ORIGINAL-URL:https://www.arzenc-de-randon.fr
X-WR-CALDESC:Évènements pour Arzenc de Randon - Lozère
REFRESH-INTERVAL;VALUE=DURATION:PT1H
X-Robots-Tag:noindex
X-PUBLISHED-TTL:PT1H
BEGIN:VTIMEZONE
TZID:Europe/Paris
BEGIN:DAYLIGHT
TZOFFSETFROM:+0100
TZOFFSETTO:+0200
TZNAME:CEST
DTSTART:20210328T010000
END:DAYLIGHT
BEGIN:STANDARD
TZOFFSETFROM:+0200
TZOFFSETTO:+0100
TZNAME:CET
DTSTART:20211031T010000
END:STANDARD
BEGIN:DAYLIGHT
TZOFFSETFROM:+0100
TZOFFSETTO:+0200
TZNAME:CEST
DTSTART:20220327T010000
END:DAYLIGHT
BEGIN:STANDARD
TZOFFSETFROM:+0200
TZOFFSETTO:+0100
TZNAME:CET
DTSTART:20221030T010000
END:STANDARD
BEGIN:DAYLIGHT
TZOFFSETFROM:+0100
TZOFFSETTO:+0200
TZNAME:CEST
DTSTART:20230326T010000
END:DAYLIGHT
BEGIN:STANDARD
TZOFFSETFROM:+0200
TZOFFSETTO:+0100
TZNAME:CET
DTSTART:20231029T010000
END:STANDARD
BEGIN:DAYLIGHT
TZOFFSETFROM:+0100
TZOFFSETTO:+0200
TZNAME:CEST
DTSTART:20240331T010000
END:DAYLIGHT
BEGIN:STANDARD
TZOFFSETFROM:+0200
TZOFFSETTO:+0100
TZNAME:CET
DTSTART:20241027T010000
END:STANDARD
BEGIN:DAYLIGHT
TZOFFSETFROM:+0100
TZOFFSETTO:+0200
TZNAME:CEST
DTSTART:20250330T010000
END:DAYLIGHT
BEGIN:STANDARD
TZOFFSETFROM:+0200
TZOFFSETTO:+0100
TZNAME:CET
DTSTART:20251026T010000
END:STANDARD
END:VTIMEZONE
BEGIN:VEVENT
DTSTART;TZID=Europe/Paris:20231231T200000
DTEND;TZID=Europe/Paris:20240101T050000
DTSTAMP:20260420T143824
CREATED:20231220T074303Z
LAST-MODIFIED:20231220T074303Z
UID:328-1704052800-1704085200@www.arzenc-de-randon.fr
SUMMARY:Réveillon du Nouvel An - Foyer Rural
DESCRIPTION:
URL:https://www.arzenc-de-randon.fr/evenement/reveillon-du-nouvel-an-foyer-rural/
LOCATION:salle polyvalente
END:VEVENT
BEGIN:VEVENT
DTSTART;TZID=Europe/Paris:20231125T093000
DTEND;TZID=Europe/Paris:20231125T193000
DTSTAMP:20260420T143824
CREATED:20231027T093956Z
LAST-MODIFIED:20231027T093956Z
UID:316-1700904600-1700940600@www.arzenc-de-randon.fr
SUMMARY:Marché de Noël
DESCRIPTION:
URL:https://www.arzenc-de-randon.fr/evenement/marche-de-noel/
LOCATION:salle polyvalente
END:VEVENT
BEGIN:VEVENT
DTSTART;TZID=Europe/Paris:20231111T203000
DTEND;TZID=Europe/Paris:20231111T203000
DTSTAMP:20260420T143824
CREATED:20231027T093633Z
LAST-MODIFIED:20231027T093641Z
UID:312-1699734600-1699734600@www.arzenc-de-randon.fr
SUMMARY:Fête du Cochon organisée par le Foyer Rural
DESCRIPTION:
URL:https://www.arzenc-de-randon.fr/evenement/fete-du-cochon-organise-par-le-foyer-rural/
LOCATION:salle polyvalente
END:VEVENT
BEGIN:VEVENT
DTSTART;TZID=Europe/Paris:20230729T080000
DTEND;TZID=Europe/Paris:20230730T170000
DTSTAMP:20260420T143824
CREATED:20230419T072759Z
LAST-MODIFIED:20230707T123137Z
UID:254-1690617600-1690736400@www.arzenc-de-randon.fr
SUMMARY:Fête votive
DESCRIPTION:
URL:https://www.arzenc-de-randon.fr/evenement/fete-votive/
END:VEVENT
BEGIN:VEVENT
DTSTART;TZID=Europe/Paris:20230305T140000
DTEND;TZID=Europe/Paris:20230305T180000
DTSTAMP:20260420T143824
CREATED:20230303T133439Z
LAST-MODIFIED:20230303T133720Z
UID:213-1678024800-1678039200@www.arzenc-de-randon.fr
SUMMARY:Loto du Foyer Rural
DESCRIPTION:
URL:https://www.arzenc-de-randon.fr/evenement/loto-du-foyer-rural/
LOCATION:salle polyvalente
END:VEVENT
BEGIN:VEVENT
DTSTART;VALUE=DATE:20220812
DTEND;VALUE=DATE:20220813
DTSTAMP:20260420T143824
CREATED:20220812T082913Z
LAST-MODIFIED:20220812T082913Z
UID:99-1660262400-1660348799@www.arzenc-de-randon.fr
SUMMARY:test  event
DESCRIPTION:khkh\n\ngfhfg\nfgcfgcf
URL:https://www.arzenc-de-randon.fr/evenement/test-event/
LOCATION:ici
END:VEVENT
END:VCALENDAR